BEGIN:VCALENDAR
VERSION:2.0
PRODID:ics.py - http://git.io/lLljaA
BEGIN:VEVENT
DESCRIPTION:Join the graduating IDM students as they present their unique final projects and celebrate their upcoming graduation. This event is not open to the general public.  https://www.coloradocollege.edu/newsevents/calendar/details.html?EventID=66187&amp\;booking=1\n\nhttps://today.coloradocollege.edu/events/9546
DTEND:20260424T203000Z
LOCATION: - 
DTSTART:20260424T180000Z
SUMMARY:IDM Senior Presentations and Celebration
UID:3617c85d-65c7-4c49-827d-b2e66b6f6756
END:VEVENT
END:VCALENDAR