BEGIN:VCALENDAR
VERSION:2.0
PRODID:ics.py - http://git.io/lLljaA
BEGIN:VEVENT
DESCRIPTION:\n\nDigital Arts and Media (DAM) Workshop on Tuesday (4/21): Illustrator\n\nThe Intro to Illustrator workshop will familiarize you with the basic tools available in Adobe Illustrator\, a vector graphics program best for creating freehand illustrations\, logos\, and diagrams. We will use paths to draw shapes and lines\, work with alignment and replication tools\, and experiment with text. At the end\, there will be time to make a calendar in the program!\n\nTuesday\, April 21\, from 3:00-4:00 pm. Open to any CC students\, faculty and staff Cornerstone 415 (North Lab\, top floor)\n\nEmail <a href="mailto:mrubenstein@coloradocollege.edu">mrubenstein@coloradocollege.edu</a> with questions or accessibility-related requests that will help support your full participation in any of our sessions.\n\nInterested in future DAM Workshops? Check out our webpage for the full schedule. <a href="http://www.tiny.cc/damw">www.tiny.cc/damw</a>\n\nhttps://today.coloradocollege.edu/events/9577
DTEND:20260421T220000Z
LOCATION:Cornerstone 415
DTSTART:20260421T210000Z
SUMMARY:DAM Workshop: Illustrator
UID:09bff1d2-af35-47d8-9027-fc725612450d
END:VEVENT
END:VCALENDAR