BEGIN:VCALENDAR
VERSION:2.0
PRODID:ics.py - http://git.io/lLljaA
BEGIN:VEVENT
DESCRIPTION:\n\nhttps://today.coloradocollege.edu/events/9585
DTEND:20260203T020000Z
LOCATION:Sacred Grounds
DTSTART:20260203T000000Z
SUMMARY:Indigenous Cooking Workshop 102
UID:3f1762a6-b3df-415a-a531-2842c0a3caf8
END:VEVENT
END:VCALENDAR