BEGIN:VCALENDAR
VERSION:2.0
PRODID:ics.py - http://git.io/lLljaA
BEGIN:VEVENT
DESCRIPTION:This training is for all new student organization leaders as well as any leaders who transitioned from Fall to Spring semesters. In this training we will go over how to be in good standing as a student organization\, plan events on and off campus\, how to use your club funds or request special event funding\, and what it means to be a leader within your organization. It is mandatory that all organizations that are new or have new leadership send at least 1 participant. This event is not open to the general public.  https://www.coloradocollege.edu/newsevents/calendar/details.html?EventID=66504&amp\;booking=1\n\nhttps://today.coloradocollege.edu/events/9629
DTEND:20260219T000000Z
LOCATION: - 
DTSTART:20260218T220000Z
SUMMARY:Student Org Leadership Training (New Orgs and Leadership Transitions)
UID:01773362-7fa1-41ac-80eb-2c837cc0df82
END:VEVENT
END:VCALENDAR