BEGIN:VCALENDAR
VERSION:2.0
PRODID:ics.py - http://git.io/lLljaA
BEGIN:VEVENT
DESCRIPTION:\n\nhttps://today.coloradocollege.edu/events/9640
DTEND:20260425T013000Z
LOCATION:Interfaith House
DTSTART:20260424T233000Z
SUMMARY:CC Hillel Shabbat
UID:6d35fe5d-6391-481a-b706-97682f4d178e
END:VEVENT
END:VCALENDAR