BEGIN:VCALENDAR
VERSION:2.0
PRODID:ics.py - http://git.io/lLljaA
BEGIN:VEVENT
DESCRIPTION:Ready to bring your scholarship into the public conversation—on air\, in print\, and beyond? Join us for a Crown Center-hosted lunch as we partner with the Office of Communications &amp\; Marketing to share an exciting opportunity for faculty to showcase the impactful work done here at CC. The Media Relations Program enhances CC's visibility\, reputation\, and influence through strategic\, proactive media engagement that raises awareness of our faculty experts and builds affinity and value for CC. During this session\, we’ll explore the ways we will embark on this exciting endeavor.\n\n<a href="https://forms.office.com/Pages/ResponsePage.aspx?id=PLHHz5YSh0OzCF3gj9E8mX4av9yINbxCsa8aVVsL1LFUOVcwUDhPNzdJUEJSUlNBQ1dXQVoyMFM1QyQlQCN0PWcu">RSVP</a> for lunch and accessibility accommodations\n\nhttps://today.coloradocollege.edu/events/9649
DTEND:20260219T203000Z
LOCATION:Tutt Library 105
DTSTART:20260219T191500Z
SUMMARY:Media Relations Program Information Lunch
UID:41c38f3e-5033-4170-a233-1fc2460457fb
END:VEVENT
END:VCALENDAR