BEGIN:VCALENDAR
VERSION:2.0
PRODID:ics.py - http://git.io/lLljaA
BEGIN:VEVENT
DESCRIPTION:<a href="https://www.coloradocollege.edu/newsevents/calendar/details.html?EventID=66197&amp\;booking=1&amp\;title=Visiting%20Artist%20Concert:%20Dr.%20Laura%20Farr%C3%A9%20Rozada\,%20pianist%20and%20mathematician"></a>\n<a href="https://www.coloradocollege.edu/newsevents/calendar/details.html?EventID=66197&amp\;booking=1&amp\;title=Visiting%20Artist%20Concert:%20Dr.%20Laura%20Farr%C3%A9%20Rozada\,%20pianist%20and%20mathematician">Dr. Laura Farré Rozada: A Lecture-Recital on Enhancing Musical Memory</a>\n\nhttps://today.coloradocollege.edu/events/9655
DTEND:20260220T033000Z
LOCATION:Packard Performance Hall
DTSTART:20260220T020000Z
SUMMARY:Dr. Laura Farré Rozada: A Lecture-Recital on Enhancing Musical Memory
UID:54235c4f-b3c3-41d1-9d8d-5afafb1f3603
END:VEVENT
END:VCALENDAR