BEGIN:VCALENDAR
VERSION:2.0
PRODID:ics.py - http://git.io/lLljaA
BEGIN:VEVENT
DESCRIPTION:We are hosting an Earth Day event for current CC students to celebrate our mission and work and to announce our 2026 Conservation in the West student photo contest Earth Day event. This event is not open to the general public.  https://www.coloradocollege.edu/newsevents/calendar/details.html?EventID=66613&amp\;booking=2\n\nhttps://today.coloradocollege.edu/events/9672
DTEND:20260423T020000Z
LOCATION:Bemis Great Hall - 920 N. Cascade Ave. (west of Cutler Hall)
DTSTART:20260423T000000Z
SUMMARY:GAIA Masquerade Ball
UID:e7485f3a-d737-447d-af33-c6199e682078
END:VEVENT
END:VCALENDAR