BEGIN:VCALENDAR
VERSION:2.0
PRODID:ics.py - http://git.io/lLljaA
BEGIN:VEVENT
DESCRIPTION:\nIf you want to learn more about the major\, minor\, funded research opportunities or if you just want to connect with others interested in Anthropology we will be collaborating with the Student Anthropological Society to have an Prospective Majors and Minors Info Session this Thursday from 12:15-1:30 in Barnes 407. Lunch will be provided and we would love to see you there!\n\n\nhttps://today.coloradocollege.edu/events/9673
DTEND:20260219T201500Z
LOCATION:barnes 407
DTSTART:20260219T191500Z
SUMMARY:Anthroplogy Prospective Majors/Minors Info Session
UID:3fdcbe37-2e51-481f-b434-1494f3f352ba
END:VEVENT
END:VCALENDAR