BEGIN:VCALENDAR
VERSION:2.0
PRODID:ics.py - http://git.io/lLljaA
BEGIN:VEVENT
DESCRIPTION: This event is not open to the general public.  https://www.coloradocollege.edu/newsevents/calendar/details.html?EventID=66702&amp\;booking=1\n\nhttps://today.coloradocollege.edu/events/9683
DTEND:20260302T210000Z
LOCATION: - 
DTSTART:20260302T180000Z
SUMMARY:ABC-IEB Noor Lunch
UID:ce806e93-d86b-4445-916f-42115cd4b45e
END:VEVENT
END:VCALENDAR