BEGIN:VCALENDAR
VERSION:2.0
PRODID:ics.py - http://git.io/lLljaA
BEGIN:VEVENT
DESCRIPTION:Interested in careers in health care\, sports medicine\, or human performance? Join the Department of Human Biology and Kinesiology for a career panel featuring professionals working across a range of applied and clinical fields.\nPanelists include:\n\n\nA physical therapist (DPT) working in pediatrics and neonatal PT\nA nurse practitioner (NP-C) working in orthopedics\nAn athletic trainer (ATC) working with college students and sport clubs\nA registered dietitian (RDN) with a PhD in Clinical Physiology &amp\; Metabolism and Master’s in Sports Conditioning and Performance\, working as a visiting Assistant Professor at CC.\n\nThis is a great opportunity to hear about different career paths\, ask questions\, and learn how academic interests can translate into professional roles.\nAll students are welcome!\nLocation: Kresge Lecture Hall (Tutt Science Building)\n\nRegister through Handshake: <a href="https://app.joinhandshake.com/stu/events/1900895">https://app.joinhandshake.com/stu/events/1900895</a>\n\nhttps://today.coloradocollege.edu/events/9691
DTEND:20260220T033000Z
LOCATION:Tutt Science 122 - Lecture Hall (Social Science)
DTSTART:20260220T020000Z
SUMMARY:HBK Career Panel: Health Sports Medicine and Human Performance Careers (Thursday\, Feb 19th\, 7-8:30pm)
UID:bfa8b8bb-03fc-44b2-b6bf-c421aacdc77c
END:VEVENT
END:VCALENDAR