BEGIN:VCALENDAR
VERSION:2.0
PRODID:ics.py - http://git.io/lLljaA
BEGIN:VEVENT
DESCRIPTION:\n\nhttps://today.coloradocollege.edu/events/9694
DTEND:20260303T001500Z
LOCATION:Interfaith House
DTSTART:20260302T231500Z
SUMMARY:Care Collective
UID:85feb6fb-2472-42d0-bbb4-d633a4e2c09e
END:VEVENT
END:VCALENDAR