BEGIN:VCALENDAR
VERSION:2.0
PRODID:ics.py - http://git.io/lLljaA
BEGIN:VEVENT
DESCRIPTION:\n\nhttps://today.coloradocollege.edu/events/9695
DTEND:20260219T211500Z
LOCATION:Interfaith House
DTSTART:20260219T201500Z
SUMMARY:Revolutionary Love Project
UID:112481b3-701b-4fe9-94c8-abb24f781701
END:VEVENT
END:VCALENDAR