BEGIN:VCALENDAR
VERSION:2.0
PRODID:ics.py - http://git.io/lLljaA
BEGIN:VEVENT
DESCRIPTION:The IEB leadership team offers a grant program to support antiracism\, diversity\, equity\, and inclusion (ADEI) learning opportunities beyond our department’s budget capacity\, helping offset costs for those who wish to participate in\, attend\, or create ADEI programming. To apply\, <a href="https://t.e2ma.net/click/vppz2j/7ykfjnde/37025v" title="https://t.e2ma.net/click/vppz2j/7ykfjnde/37025v">complete this form describing your funding needs</a> by March 1\, 2026\, for Spring 2026 activities\; requests take at least two weeks to review\, so submit at least one month in advance. Applications are evaluated for alignment with IEB’s focus on designing infrastructure\, cultivating community\, and building capacity\, through an antiracist lens that promotes mental wellness and sustainability. \n\n\n\nhttps://today.coloradocollege.edu/events/9697
DTEND:20260302T070000Z
LOCATION:Virtual
DTSTART:20260301T070000Z
SUMMARY:March 1st- Deadline for ACE Grant proposals!
UID:da778059-8a07-4c3b-a249-540a42b6a9fa
END:VEVENT
END:VCALENDAR