BEGIN:VCALENDAR
VERSION:2.0
PRODID:ics.py - http://git.io/lLljaA
BEGIN:VEVENT
DESCRIPTION:Join President Whitaker and Board Chair Kyle Samuel on Monday\, March 2 from 2:30-3:30 p.m. for a virtual town hall following the February Board of Trustees meeting.\n\nThis is your opportunity to hear directly from college leadership about recent board discussions\, institutional priorities\, and strategic initiatives shaping our future.\n\nThe session will provide insights into key decisions and topics addressed during the board meeting\, offering transparency into the governance processes that guide our college. President Whitaker and Chair Samuel will share updates on important matters affecting our campus community and address questions from town hall attendees.\n\nAll members of the CC community are invited to participate. The town hall will be recorded and shared with the campus community the week after the event.\n\n<a href="https://nam04.safelinks.protection.outlook.com/?url=https%3A%2F%2Ft.e2ma.net%2Fclick%2Fjgun5j%2Fjogezok%2Fzgpwaw&amp\;data=05%7C02%7Ckettleman%40ColoradoCollege.edu%7C39167511a981447f613f08de64d3dd80%7Ccfc7b13c12964387b3085de08fd13c99%7C0%7C0%7C639059058291052589%7CUnknown%7CTWFpbGZsb3d8eyJFbXB0eU1hcGkiOnRydWUsIlYiOiIwLjAuMDAwMCIsIlAiOiJXaW4zMiIsIkFOIjoiTWFpbCIsIldUIjoyfQ%3D%3D%7C0%7C%7C%7C&amp\;sdata=tfPOTw0ZTSS%2BJDsqkzwNOSm%2BIzD1JI4d8tLxhx%2Bp9FM%3D&amp\;reserved=0">Register Here</a>\n\nhttps://today.coloradocollege.edu/events/9701
DTEND:20260302T223000Z
LOCATION:Virtual
DTSTART:20260302T213000Z
SUMMARY:Board of Trustees Virtual Town Hall
UID:08cf08cd-89c4-4ab9-ba45-561fcbf454db
END:VEVENT
END:VCALENDAR