BEGIN:VCALENDAR
VERSION:2.0
PRODID:ics.py - http://git.io/lLljaA
BEGIN:VEVENT
DESCRIPTION:Come meet the candidates running in the 2026-27 CCSGA elections. The more candidates you talk to\, the more free donuts you get! This event is not open to the general public.  https://www.coloradocollege.edu/newsevents/calendar/details.html?EventID=66777&amp\;booking=1\n\nhttps://today.coloradocollege.edu/events/9704
DTEND:20260302T200000Z
LOCATION: - 
DTSTART:20260302T190000Z
SUMMARY:CCSGA Candidate Forum
UID:5f509585-f319-461c-aa81-b88fc5345b77
END:VEVENT
END:VCALENDAR