BEGIN:VCALENDAR
VERSION:2.0
PRODID:ics.py - http://git.io/lLljaA
BEGIN:VEVENT
DESCRIPTION:\nAntiracist Book Club - Noor lunch with IEB and Dr. Brenna Swift '09\n \nJoin IEB on Monday\, March 2 from 12:00 - 2:00 p.m. to connect and discuss Noor\, disability justice\, identity\, and futurities with invited guest Dr. Brenna Swift '09. <a href="https://forms.office.com/Pages/ResponsePage.aspx?id=PLHHz5YSh0OzCF3gj9E8mSWMUbVhNQZJgKpOpoE6jI1UMzROQlBFS1pNSDZFMUlQS05LRUxXMUhMTS4u">Please RSVP</a><a href="https://forms.office.com/Pages/ResponsePage.aspx?id=PLHHz5YSh0OzCF3gj9E8mSWMUbVhNQZJgKpOpoE6jI1UMzROQlBFS1pNSDZFMUlQS05LRUxXMUhMTS4u">.</a>\n\nhttps://today.coloradocollege.edu/events/9709
DTEND:20260302T210000Z
LOCATION:South Commons
DTSTART:20260302T190000Z
SUMMARY:Antiracist Book Club: Noor Lunch
UID:cb88faf7-2d23-4c9c-8b9b-9e8bccc3d6a9
END:VEVENT
END:VCALENDAR