BEGIN:VCALENDAR
VERSION:2.0
PRODID:ics.py - http://git.io/lLljaA
BEGIN:VEVENT
DESCRIPTION:\n\nhttps://today.coloradocollege.edu/events/9711
DTEND:20260303T200000Z
LOCATION:Worner 213
DTSTART:20260303T191500Z
SUMMARY:Talking Circle 3/3
UID:a628fd9d-1340-42bb-ad53-4b41720f98ac
END:VEVENT
END:VCALENDAR