BEGIN:VCALENDAR
VERSION:2.0
PRODID:ics.py - http://git.io/lLljaA
BEGIN:VEVENT
DESCRIPTION:\n\nhttps://today.coloradocollege.edu/events/9712
DTEND:20260303T020000Z
LOCATION:Sacred Grounds
DTSTART:20260303T010000Z
SUMMARY:Self Care: Indigenous Sugar Scrubs!
UID:824d7495-4618-45fe-89dc-841e24318998
END:VEVENT
END:VCALENDAR