BEGIN:VCALENDAR
VERSION:2.0
PRODID:ics.py - http://git.io/lLljaA
BEGIN:VEVENT
DESCRIPTION:\n\nhttps://today.coloradocollege.edu/events/9723
DTEND:20260304T014500Z
LOCATION:Washburn Field
DTSTART:20260304T001500Z
SUMMARY:Men's Lacrosse vs. John Carroll - Staff & Faculty Appreciation Game
UID:6548dd00-dabf-4baf-bc6a-ffd8762e756c
END:VEVENT
END:VCALENDAR