BEGIN:VCALENDAR
VERSION:2.0
PRODID:ics.py - http://git.io/lLljaA
BEGIN:VEVENT
DESCRIPTION:Visiting Writers Series Presents John Weldon This event is open to the general public.  https://www.coloradocollege.edu/newsevents/calendar/details.html?EventID=65877&amp\;booking=1\n\nhttps://today.coloradocollege.edu/events/9729
DTEND:20260227T020000Z
LOCATION: - 
DTSTART:20260227T000000Z
SUMMARY:Visiting Writers Series Presents John Weldon
UID:7a970c7e-22f9-4176-9b94-99bd14f909b5
END:VEVENT
END:VCALENDAR