BEGIN:VCALENDAR
VERSION:2.0
PRODID:ics.py - http://git.io/lLljaA
BEGIN:VEVENT
DESCRIPTION:Ed Robson Arena will host the Colorado High School Activities Association (CHSAA) 4A and 5A State Ice Hockey Semifinals on Saturday\, February 28. The schedule of events is below: \n\n4A Semifinal Game 1 - 11:30 a.m. - No. 8 Colorado Springs District 11 vs. No. 4 Steamboat Springs\n\n4A Semifinal Game 2 - 2 p.m. - No. 2 Colorado Academy vs. No. 3 Pine Creek\n\n5A Semifinal Game 1 - 4:30 p.m. - No. 1 Poudre School District vs. No. 4 Regis Jesuit\n\n5A Semifinal Game 2 - 7 p.m. - No. 2 Valor Christian vs. No. 3 Cherry Creek This event is open to the general public.  https://www.coloradocollege.edu/newsevents/calendar/details.html?EventID=66258&amp\;booking=2\n\nhttps://today.coloradocollege.edu/events/9732
DTEND:20260301T040000Z
LOCATION:Ed Robson Arena: Ice Level - 
DTSTART:20260228T170000Z
SUMMARY:CHSAA 4A and 5A State Ice Hockey Semifinals
UID:32508278-7632-42f3-9a17-ed50ba42285e
END:VEVENT
END:VCALENDAR