BEGIN:VCALENDAR
VERSION:2.0
PRODID:ics.py - http://git.io/lLljaA
BEGIN:VEVENT
DESCRIPTION:\nNext Information Session:\nMon. March 2nd from 2-3 PM in Armstrong 326\n\nCC Semester in France: 2 &amp\; 4 block options.\nCheck out the <a href="https://www.coloradocollege.edu/academics/dept/french/studyabroad/index.html">Department Webpage</a> for more information and reference of previous trips.\n\nEmail Prof. Micheal O'Riley (<a href="mailto:moriley@coloradocollege.edu">moriley@coloradocollege.edu</a>) with questions\n\nhttps://today.coloradocollege.edu/events/9734
DTEND:20260302T220000Z
LOCATION:Armstrong 326
DTSTART:20260302T210000Z
SUMMARY:INFO Session: CC in France Spring 2027 – Nice\, France
UID:a78a7fee-aa30-4dce-8e70-21486ffcf4a2
END:VEVENT
END:VCALENDAR