BEGIN:VCALENDAR
VERSION:2.0
PRODID:ics.py - http://git.io/lLljaA
BEGIN:VEVENT
DESCRIPTION:<a href="https://www.coloradocollege.edu/newsevents/calendar/details.html?EventID=63307&amp\;booking=1&amp\;title=Music%20at%20Midday"></a>\n<a href="https://www.coloradocollege.edu/newsevents/calendar/details.html?EventID=63307&amp\;booking=1&amp\;title=Music%20at%20Midday">Music at Midday - Wednesday\, March 4\, 12:15pm in Packard Hall</a>\n\nhttps://today.coloradocollege.edu/events/9735
DTEND:20260304T201500Z
LOCATION:Packard Performance Hall
DTSTART:20260304T191500Z
SUMMARY:Music at Midday 
UID:8aa3ba7e-da07-4dd3-bc29-bcf8eaaca4bb
END:VEVENT
END:VCALENDAR