BEGIN:VCALENDAR
VERSION:2.0
PRODID:ics.py - http://git.io/lLljaA
BEGIN:VEVENT
DESCRIPTION:Come join CCDA and renown breath artist\, Shodekeh as we explore the art of the breath! All are welcome! This event is not open to the general public.  https://www.coloradocollege.edu/newsevents/calendar/details.html?EventID=67047&amp\;booking=1\n\nhttps://today.coloradocollege.edu/events/9770
DTEND:20260423T010000Z
LOCATION: - 
DTSTART:20260422T230000Z
SUMMARY:CCDA x Shodekeh
UID:f672b977-9728-45cb-ac0c-71cd4827a13a
END:VEVENT
END:VCALENDAR