BEGIN:VCALENDAR
VERSION:2.0
PRODID:ics.py - http://git.io/lLljaA
BEGIN:VEVENT
DESCRIPTION:Hosted by B-Side Arts Collective\, the Barter Market provides an alternative to end-of-year dumping/cleaning by asking students to bring in old clothes\, books\, art\, ceramics\, etc to trade\, donate\, and barter. Taking place in the Labyrinth\, this event will be on April 24th from 3:00 to 6:00 PM This event is not open to the general public.  https://www.coloradocollege.edu/newsevents/calendar/details.html?EventID=67029&amp\;booking=1\n\nhttps://today.coloradocollege.edu/events/9771
DTEND:20260425T010000Z
LOCATION: - 
DTSTART:20260424T200000Z
SUMMARY:Barter Market
UID:f9a63d05-7b74-4c67-9531-3f5a0553cc50
END:VEVENT
END:VCALENDAR