BEGIN:VCALENDAR
VERSION:2.0
PRODID:ics.py - http://git.io/lLljaA
BEGIN:VEVENT
DESCRIPTION:Join us for the first session in our two-part harm reduction panel series\, focused on the realitiesand impact of harm reduction work in Colorado Springs. Representatives from Love Alive andthe Southern Colorado Harm Reduction Association will share their frontline experiences\,explain the principles of harm reduction\, and discuss how local efforts are saving lives andstrengthening community care. This event is open to the general public.  https://www.coloradocollege.edu/newsevents/calendar/details.html?EventID=67082&amp\;booking=1\n\nhttps://today.coloradocollege.edu/events/9778
DTEND:20260423T230000Z
LOCATION: - 
DTSTART:20260423T210000Z
SUMMARY:Harm Reduction Panel
UID:750daa6d-e1d1-4a71-af53-252cc816d5a4
END:VEVENT
END:VCALENDAR