BEGIN:VCALENDAR
VERSION:2.0
PRODID:ics.py - http://git.io/lLljaA
BEGIN:VEVENT
DESCRIPTION:\n\nWant to look your best for graduation and/or end of the academic year festivities? Sign up for a Free Haircut\, brought to you by OCA! Our partner company Clipdart has Barbers and Stylists that can work on almost any hairtype and even specialize in Black &amp\; Brown hairtypes. The only restrictions are that no haircoloring or braiding can be done due to time contraints. Sign up for a 30-minute Barber or Stylist time slot on Tuesday\, April 21st from 12pm-6pm!\n\nSign-up <a href="https://www.signupgenius.com/go/10C0C4BA5A62CA6F8C07-63144245-free#/">HERE</a>!\n\nhttps://today.coloradocollege.edu/events/9833
DTEND:20260422T000000Z
LOCATION:Gaylor Hall (Worner 1st Floor)
DTSTART:20260421T180000Z
SUMMARY:Free Haircut Day
UID:e86e6bfd-2d06-4c43-bcce-8bcd11eb80a6
END:VEVENT
END:VCALENDAR