BEGIN:VCALENDAR
VERSION:2.0
PRODID:ics.py - http://git.io/lLljaA
BEGIN:VEVENT
DESCRIPTION:Welcome to the last few months of the fiscal year! As we prepare to successfully close the FY26 books\, please plan to attend this meeting if you have a P-Card\, handle POs\, journal entries\, and anything else budget and expense related. You will receive information on important deadlines and procedures. \n\n   Thursday\, April 23\, 2026\n   9:30 – 10:30 a.m.\n   South Hall Commons\n \nIf you are unable to attend this session and feel you need the information\, please reach out to Michelle Beckmann by email or Teams. She will be sure to get you the information you need.\n\nQuestions? Please reach out to Michelle!\n\nhttps://today.coloradocollege.edu/events/9861
DTEND:20260423T163000Z
LOCATION:South Commons
DTSTART:20260423T153000Z
SUMMARY:Finance FY-End Procedures Meeting
UID:f399f4fa-a67b-4dbc-bfa1-6053403bc927
END:VEVENT
END:VCALENDAR