BEGIN:VCALENDAR
VERSION:2.0
PRODID:ics.py - http://git.io/lLljaA
BEGIN:VEVENT
DESCRIPTION:Hello Class of 2026!  \nHere's what you need to know about Senior Prom:\nTheme? Fantasy Ball\nImportant Reminders: bring your CC ID\, doors will open at 8:00pm\, no bags or water bottles allowed\, do not bring alcohol into the venue.\nAND Don't forget to send your promposals to the CC Senior Prom instagram\, too (@ccseniorprom2026). If you have any questions\, don't hesitate to reach out to <a href="mailto:CCSGA@coloradocollege.edu">CCSGA@coloradocollege.edu</a>. \n\n\n\nhttps://today.coloradocollege.edu/events/9863
DTEND:20260426T043000Z
LOCATION:Cornerstone Main Space
DTSTART:20260426T020000Z
SUMMARY:Senior Prom - Fantasy Ball!
UID:72912697-f865-4e93-a8b6-9d0de18e7e48
END:VEVENT
END:VCALENDAR