BEGIN:VCALENDAR
VERSION:2.0
PRODID:ics.py - http://git.io/lLljaA
BEGIN:VEVENT
DESCRIPTION:Join Sunrise on Tues\, April 21 and Tues\, April 28 at 6pm for dinner and conversation with COS political leaders Yolanda L. Avila (CC grad and former city council member running for county commissioner) and Stephanie Vigil (former Colorado state rep running to retake HD-16)\, respectively. This is a chance for students to hear from local changemakers about their vision for Colorado Springs\, discuss pressing local issues\, and share their own perspectives!\n\nhttps://today.coloradocollege.edu/events/9869
DTEND:20260422T010000Z
LOCATION:Tutt Library 105
DTSTART:20260422T000000Z
SUMMARY:Local Leaders Engagement Series (hosted by Sunrise) 
UID:a1fbf441-21f7-4424-be53-c1d3068db2e0
END:VEVENT
END:VCALENDAR