BEGIN:VCALENDAR
VERSION:2.0
PRODID:ics.py - http://git.io/lLljaA
BEGIN:VEVENT
DESCRIPTION:\n\nhttps://today.coloradocollege.edu/events/9876
DTEND:20260423T230000Z
LOCATION:Language Houses Quad 
DTSTART:20260423T210000Z
SUMMARY:Spring Fun Festival.... Join us for an afternoon of food\, games\, & cultural experiences!
UID:6353af0d-dea5-478c-8e9f-303c5290deb5
END:VEVENT
END:VCALENDAR