BEGIN:VCALENDAR
VERSION:2.0
PRODID:ics.py - http://git.io/lLljaA
BEGIN:VEVENT
DESCRIPTION:Join Morgan's Message to celebrate the end of the school year with field games and Kona Ice From 12:30 -2:00 on the Tutt Science Quad This event is not open to the general public.  https://www.coloradocollege.edu/newsevents/calendar/details.html?EventID=67764&amp\;booking=1\n\nhttps://today.coloradocollege.edu/events/9878
DTEND:20260427T203000Z
LOCATION: - 
DTSTART:20260427T180000Z
SUMMARY:Morgan's Message Field Day
UID:51d95dc5-e33e-4b1d-96bd-0b93b33826b8
END:VEVENT
END:VCALENDAR