BEGIN:VCALENDAR
VERSION:2.0
PRODID:ics.py - http://git.io/lLljaA
BEGIN:VEVENT
DESCRIPTION:Rebuilding Environmental Science Through Indigenous Science: Lessons from Fresh Banana Leaves\n\nThis presentation examines the themes of Dr. Jessica Hernandez’s Fresh Banana Leaves to show how Indigenous histories and knowledge systems make essential contributions to contemporary environmental science. Through her exploration of land stewardship\, ecological reciprocity\, and community-rooted science\, the book demonstrates how Indigenous science offers holistic\, place-based frameworks that address environmental challenges in ways Western science alone cannot. Highlighting examples such as forest management\, ecological restoration\, and climate resilience\, the presentation illustrates how Indigenous knowledge strengthens scientific inquiry by centering relationality\, interdependence\, and long-term observation. By comparing Western scientific approaches with Indigenous ecological practices\, we show how collaborative\, decolonized research models lead to more ethical\, resilient\, and sustainable environmental outcomes. Ultimately\, this presentation argues that embracing Indigenous science is not supplementary but foundational to building a more just and effective environmental science for the future. This event is open to the general public.  https://www.coloradocollege.edu/newsevents/calendar/details.html?EventID=65942&amp\;booking=1\n\nhttps://today.coloradocollege.edu/events/9883
DTEND:20260424T011500Z
LOCATION:Richard F. Celeste Theatre - Edith Kinney Gaylord Cornerstone Arts Center\, 825 N. Cascade Ave.
DTSTART:20260423T230000Z
SUMMARY:2026 Timothy C. Linnemann Memorial Lecture on the Environment: Dr. Jessica Hernandez
UID:c0781567-f868-4432-84c5-e627d2e09646
END:VEVENT
END:VCALENDAR