BEGIN:VCALENDAR
VERSION:2.0
PRODID:ics.py - http://git.io/lLljaA
BEGIN:VEVENT
DESCRIPTION:\nJoin us on Thursday\, April 23rd\, at 12:15 pm in Bemis Great Hall for Anthropology Senior Capstone Presentations. Lunch will be provided.\n \nFor anyone who would like to attend online\, the presentations will be livestreamed at the following Zoom link (feel free to share this link with friends and family who are not able to attend in person): <a href="https://coloradocollege.zoom.us/j/99872185192" title="https://coloradocollege.zoom.us/j/99872185192">https://coloradocollege.zoom.us/j/99872185192</a>\n\nhttps://today.coloradocollege.edu/events/9884
DTEND:20260423T201500Z
LOCATION:Bemis Great Hall
DTSTART:20260423T181500Z
SUMMARY:Anthropology Senior Capstone Presentations!
UID:3b1da977-0457-4550-8366-3687149de854
END:VEVENT
END:VCALENDAR