BEGIN:VCALENDAR
VERSION:2.0
PRODID:ics.py - http://git.io/lLljaA
BEGIN:VEVENT
DESCRIPTION:Come celebrate Earth Day with the CC Exchange's Spring Pop-Up! Stop by Worner Quad on Wednesday\, April 22nd from 12:30-2:00 to learn about the sustainability of clothing consumption and take a look at our spring stock of free clothing! This event is not open to the general public.  https://www.coloradocollege.edu/newsevents/calendar/details.html?EventID=66835&amp\;booking=1\n\nhttps://today.coloradocollege.edu/events/9910
DTEND:20260422T200000Z
LOCATION: - 
DTSTART:20260422T181500Z
SUMMARY:CC Exchange Spring Pop-Up
UID:74ddb76d-19fc-4d0c-99ce-279a3e970157
END:VEVENT
END:VCALENDAR