BEGIN:VCALENDAR
VERSION:2.0
PRODID:ics.py - http://git.io/lLljaA
BEGIN:VEVENT
DESCRIPTION:<a href="https://www.coloradocollege.edu/newsevents/calendar/details.html?EventID=62993&amp\;booking=1&amp\;title=Chamber%20Chorus%20Concert"></a>\n<a href="https://www.coloradocollege.edu/newsevents/calendar/details.html?EventID=62993&amp\;booking=1&amp\;title=Chamber%20Chorus%20Concert">Chamber Chorus Concert: A World of Song - April 24\, 7:30 p.m.\, Packard Hall</a>\n\nhttps://today.coloradocollege.edu/events/9919
DTEND:20260425T030000Z
LOCATION:Packard Performance Hall
DTSTART:20260425T013000Z
SUMMARY:Chamber Chorus Concert: A World of Song
UID:880f1dc2-f4bb-4015-a439-4b0e8afc1ea0
END:VEVENT
END:VCALENDAR